BEGIN:VCALENDAR
VERSION:2.0
PRODID:-//wp-events-plugin.com//7.2.3.1//EN
BEGIN:VEVENT
UID:16@wammanextgen.ca
DTSTART:20260527T000000Z
DTEND:20260531T000000Z
DTSTAMP:20260413T023408Z
URL:https://wammanextgen.ca/events/montreal-world-team-trials/
SUMMARY:Montreal World Team Trials
DESCRIPTION:Flight information.\n\nwe will fly to and from Ottawa and drive
  to montreal from there.\n\n&nbsp\;\n\n
END:VEVENT
END:VCALENDAR